BEGIN:VCALENDAR
VERSION:2.0
PRODID:-//Full Blast Booking - ECPv6.15.1.1//NONSGML v1.0//EN
CALSCALE:GREGORIAN
METHOD:PUBLISH
X-WR-CALNAME:Full Blast Booking
X-ORIGINAL-URL:https://fullblastbooking.net
X-WR-CALDESC:Events for Full Blast Booking
REFRESH-INTERVAL;VALUE=DURATION:PT1H
X-Robots-Tag:noindex
X-PUBLISHED-TTL:PT1H
BEGIN:VTIMEZONE
TZID:UTC
BEGIN:STANDARD
TZOFFSETFROM:+0000
TZOFFSETTO:+0000
TZNAME:UTC
DTSTART:20220101T000000
END:STANDARD
END:VTIMEZONE
BEGIN:VEVENT
DTSTART;TZID=UTC:20220313T190000
DTEND;TZID=UTC:20220313T233000
DTSTAMP:20260423T180753
CREATED:20211218T230112Z
LAST-MODIFIED:20220212T014221Z
UID:1079-1647198000-1647214200@fullblastbooking.net
SUMMARY:Copywrite 20th Anniversary Tour - Manchester\, NH
DESCRIPTION:Full Blast Booking Presents Copywrite The High Exhaulted – 20th Anniversary Tour \nLocation: The Shaskeen \n21+ Event with Live Performances by: \nLineup & Location Info Dropping Soon … Follow @fullblastbooking on Instagram for updates.
URL:https://fullblastbooking.net/event/copywrite-the-high-exhaulted-20th-anniversary-tour-nh/
LOCATION:The Shaskeen\, 909 Elm St\, Manchester\, NH\, United States
CATEGORIES:Copywrite
ATTACH;FMTTYPE=image/jpeg:https://fullblastbooking.net/wp-content/uploads/2021/12/259689732_468783141534035_6100886676242165486_n.jpg
END:VEVENT
BEGIN:VEVENT
DTSTART;TZID=UTC:20220312T190000
DTEND;TZID=UTC:20220312T233000
DTSTAMP:20260423T180753
CREATED:20211218T230013Z
LAST-MODIFIED:20220212T011912Z
UID:1076-1647111600-1647127800@fullblastbooking.net
SUMMARY:Copywrite 20th Anniversary Tour - Burlington\, VT
DESCRIPTION:Full Blast Booking Presents Copywrite The High Exhaulted – 20th Anniversary Tour \nLocation: The Green Door Studio \n21+ Event Hosted by King Sha Mecca plus DJ Kanga on the Decks with Live Performances by: \nParanormal Adam\, Smifhouse Records\, Konflik\, Trey Tuck\, K. Burns\, Mister Burns\, Flex 45\, Cognac Cousins & More \nFollow @fullblastbooking on Instagram for updates. \n>>CLICK HERE << For Tickets
URL:https://fullblastbooking.net/event/copywrite-the-high-exhaulted-20th-anniversary-tour-vt/
LOCATION:The Green Door\, 4 Howard St\, Burlington
CATEGORIES:Copywrite
ATTACH;FMTTYPE=image/jpeg:https://fullblastbooking.net/wp-content/uploads/2021/12/Copywrite-3.12.22.jpg
END:VEVENT
BEGIN:VEVENT
DTSTART;TZID=UTC:20220311T190000
DTEND;TZID=UTC:20220311T233000
DTSTAMP:20260423T180753
CREATED:20211218T225734Z
LAST-MODIFIED:20220212T011104Z
UID:1073-1647025200-1647041400@fullblastbooking.net
SUMMARY:Copywrite 20th Anniversary Tour - Worcester\, MA
DESCRIPTION:Full Blast Booking Presents Copywrite The High Exhaulted – 20th Anniversary Tour \nLocation: Electric Haze \n21+ Event with Live Performances by: \nJackson Whalan\, Aqmni\, Kemic\, Smifhouse Records\, Konflik\, Trey Tuck\, Paranormal Adam\, Danny Fantom\, Jai Nickerson\, Laura Rodriguez\, Lingo/Grind Mode \nFollow @fullblastbooking on Instagram for updates.
URL:https://fullblastbooking.net/event/copywrite-the-high-exhaulted-20th-anniversary-tour-ma/
LOCATION:Electric Haze\, Worcester\, MA\, United States
CATEGORIES:Copywrite
ATTACH;FMTTYPE=image/png:https://fullblastbooking.net/wp-content/uploads/2022/02/Copywrite-Anniversary-Tour-3.11.22.png
END:VEVENT
BEGIN:VEVENT
DTSTART;TZID=UTC:20220310T190000
DTEND;TZID=UTC:20220310T233000
DTSTAMP:20260423T180753
CREATED:20211218T225624Z
LAST-MODIFIED:20220212T010312Z
UID:1070-1646938800-1646955000@fullblastbooking.net
SUMMARY:Copywrite 20th Anniversary Tour - Hamden\, CT
DESCRIPTION:Full Blast Booking Presents Copywrite The High Exhaulted – 20th Anniversary Tour \nLocation: The Cellar \n21+ Event Hosted by Chuck Nickels with Sounds by DJ Funksway and Special Guest Ren Thomas with Live Performances by: \nTrey Tuck\, Konflik\, LiveWire\, Paranormal Adam\, K. Burns\, Smifhouse Records\, Boss Regis\, Christyal Thoughts\, East Cali & More  \n>> CLICK HERE FOR TICKETS >> \nFollow @fullblastbooking on Instagram for updates.
URL:https://fullblastbooking.net/event/copywrite-the-high-exhaulted-20th-anniversary-tour-ct/
LOCATION:The Cellar on Treadwell\, 295 Treadwell St\, Hamden\, CT\, United States
CATEGORIES:Copywrite
ATTACH;FMTTYPE=image/png:https://fullblastbooking.net/wp-content/uploads/2022/02/Copywrite-Anniversary-Tour-3.10.22.png
END:VEVENT
BEGIN:VEVENT
DTSTART;TZID=UTC:20220309T190000
DTEND;TZID=UTC:20220309T233000
DTSTAMP:20260423T180753
CREATED:20211218T225511Z
LAST-MODIFIED:20220212T005434Z
UID:1067-1646852400-1646868600@fullblastbooking.net
SUMMARY:Copywrite 20th Anniversary Tour - Providence\, RI
DESCRIPTION:Full Blast Booking Presents Copywrite The High Exhaulted – 20th Anniversary Tour \nLocation: Troop \n21+ Event Hosted by Raisa with Sounds by DJ Cadillac Jack and Live Performances by: \nFive\, Dirty Durdie\, Smifhouse Records\, Paranormal Adam\, Trey Tuck\, Konflik\, Laura Michelle & More \nFollow @fullblastbooking on Instagram for updates.
URL:https://fullblastbooking.net/event/copywrite-the-high-exhaulted-20th-anniversary-tour-ri/
LOCATION:Troop\, 60 Valley St\, Providence\, 02909\, United States
CATEGORIES:Copywrite
ATTACH;FMTTYPE=image/png:https://fullblastbooking.net/wp-content/uploads/2022/02/Copywrite-Anniversary-Tour-3.9.22.png
END:VEVENT
BEGIN:VEVENT
DTSTART;TZID=UTC:20220306T190000
DTEND;TZID=UTC:20220306T233000
DTSTAMP:20260423T180753
CREATED:20211218T225347Z
LAST-MODIFIED:20220212T004936Z
UID:1064-1646593200-1646609400@fullblastbooking.net
SUMMARY:Copywrite 20th Anniversary Tour - Spartanburg\, SC
DESCRIPTION:Full Blast Booking Presents Copywrite The High Exhaulted – 20th Anniversary Tour \nLocation: GroundZero \n21+ Event Hosted by Sympl with Live Performances by: \nParanormal Adam\, By Design\, Konflik\, Taj & Coach K\, Smifhouse Records\, Dr. Ho-Tron\, Trey Tuck\, Stank Nitty & More \nFollow @fullblastbooking on Instagram for updates.
URL:https://fullblastbooking.net/event/copywrite-the-high-exhaulted-20th-anniversary-tour-sc/
LOCATION:GroundZero\, 3052 Howard St\, Spartanburg\, 29303
CATEGORIES:Copywrite
ATTACH;FMTTYPE=image/png:https://fullblastbooking.net/wp-content/uploads/2022/02/Copywrite-Anniversary-Tour-3.6.22.png
END:VEVENT
BEGIN:VEVENT
DTSTART;TZID=UTC:20220305T190000
DTEND;TZID=UTC:20220305T233000
DTSTAMP:20260423T180753
CREATED:20211218T225247Z
LAST-MODIFIED:20220212T004608Z
UID:1061-1646506800-1646523000@fullblastbooking.net
SUMMARY:Copywrite 20th Anniversary Tour - Asheville\, NC
DESCRIPTION:Full Blast Booking Presents Copywrite The High Exhaulted – 20th Anniversary Tour \nLocation: Cafe Canna \n21+ Event Hosted by Sympl with Live Performances by: \nKonflik\, Philo\, Paranormal Adam\, Bryan Colston\, Smifhouse Records\, Dr Ho-Tron\, Trey Tuck\, J.Ruckus!\, TheProductz & More ….. Catering By Mic Savy & DJ Goku \nFollow @fullblastbooking on Instagram for updates.
URL:https://fullblastbooking.net/event/copywrite-the-high-exhaulted-20th-anniversary-tour-nc/
LOCATION:Cafe Canna\, 487 Haywood Rd\, Asheville\, North Carolina\, United States
CATEGORIES:Copywrite
ATTACH;FMTTYPE=image/png:https://fullblastbooking.net/wp-content/uploads/2022/02/Copywrite-Anniversary-Tour-3.5.22.png
END:VEVENT
BEGIN:VEVENT
DTSTART;TZID=UTC:20220304T190000
DTEND;TZID=UTC:20220304T233000
DTSTAMP:20260423T180753
CREATED:20211218T211450Z
LAST-MODIFIED:20220212T003901Z
UID:1049-1646420400-1646436600@fullblastbooking.net
SUMMARY:Copywrite 20th Anniversary Tour - Roanoke\, VA
DESCRIPTION:Full Blast Booking Presents Copywrite The High Exhaulted – 20th Anniversary Tour \nLocation: Verses \n21+ Event Hosted by Harvest Blaque with Live Performances by: \nKonflik\, Smifhouse Records\, Trey Tuck\, Paranormal Adam\, Bobbu Cusack\, Poe Mack & More … \nFollow @fullblastbooking on Instagram for updates.
URL:https://fullblastbooking.net/event/copywrite-the-high-exhaulted-20th-anniversary-tour-va/
LOCATION:Verses\, 114A Kirk Ave\, Roanoke\, 24011
CATEGORIES:Copywrite
ATTACH;FMTTYPE=image/png:https://fullblastbooking.net/wp-content/uploads/2022/02/Copywrite-Anniversary-Tour-3.4.22.png
END:VEVENT
BEGIN:VEVENT
DTSTART;TZID=UTC:20220303T190000
DTEND;TZID=UTC:20220303T233000
DTSTAMP:20260423T180753
CREATED:20211218T211234Z
LAST-MODIFIED:20220212T014054Z
UID:1044-1646334000-1646350200@fullblastbooking.net
SUMMARY:Copywrite 20th Anniversary Tour - Knoxville\, TN
DESCRIPTION:Full Blast Booking Presents Copywrite The High Exhaulted – 20th Anniversary Tour \nLocation: Pilot Light \n21+ Event – Sound by Earl Grae with Live Performances by: \nSmifhouse Records\, Konflik\, Trey Tuck\, Cos#420 – C. Shreve the Professor\, The Productz \nFollow @fullblastbooking on Instagram for updates.
URL:https://fullblastbooking.net/event/copywrite-the-high-exhaulted-20th-anniversary-tour-tn/
LOCATION:Pilot Light\, 106 E Jackson Ave\, Knoxville\, 37915\, United States
CATEGORIES:Copywrite
ATTACH;FMTTYPE=image/jpeg:https://fullblastbooking.net/wp-content/uploads/2021/12/272895867_266644408879553_1913804705366275063_n.jpg
END:VEVENT
END:VCALENDAR