BEGIN:VCALENDAR
VERSION:2.0
PRODID:-//Full Blast Booking - ECPv6.15.1.1//NONSGML v1.0//EN
CALSCALE:GREGORIAN
METHOD:PUBLISH
X-WR-CALNAME:Full Blast Booking
X-ORIGINAL-URL:https://fullblastbooking.net
X-WR-CALDESC:Events for Full Blast Booking
REFRESH-INTERVAL;VALUE=DURATION:PT1H
X-Robots-Tag:noindex
X-PUBLISHED-TTL:PT1H
BEGIN:VTIMEZONE
TZID:America/New_York
BEGIN:DAYLIGHT
TZOFFSETFROM:-0500
TZOFFSETTO:-0400
TZNAME:EDT
DTSTART:20230312T070000
END:DAYLIGHT
BEGIN:STANDARD
TZOFFSETFROM:-0400
TZOFFSETTO:-0500
TZNAME:EST
DTSTART:20231105T060000
END:STANDARD
END:VTIMEZONE
BEGIN:VTIMEZONE
TZID:UTC
BEGIN:STANDARD
TZOFFSETFROM:+0000
TZOFFSETTO:+0000
TZNAME:UTC
DTSTART:20220101T000000
END:STANDARD
END:VTIMEZONE
BEGIN:VEVENT
DTSTART;TZID=America/New_York:20230301T180000
DTEND;TZID=America/New_York:20230301T235900
DTSTAMP:20260423T200212
CREATED:20230206T222446Z
LAST-MODIFIED:20230207T142845Z
UID:5104-1677693600-1677715140@fullblastbooking.net
SUMMARY:Underground Grind Tour Feat Young Zee and Friends - Reading\, PA
DESCRIPTION:This year the Full Blast Booking UnderGround Grind Tour is going Coast 2 Coast featuring Young Zee & Friends …. and boy do we have a lineup for you! \n\n\n\nPaceWon & Ruste Juxx will be kicking off the tour with Young Zee with performances by: \n\n\n\nSoSoon\, Clish\, Loude Amerixa\, Paranormal Adam\, N8 & Tha G\, Dellz\, Oldie Ivory\, G Lyrekal\, Shyear\, Don Mistrezz\, Black Market Soup Kitchen and more! \n\n\n\nLocation: Reverb | 1402 N 9th Street | Reading\, PA \n\n\n\nDoors Open at 6pm \n\n\n\n$15 Tickets >> CLICK TO ORDER <<
URL:https://fullblastbooking.net/event/underground-grind-tour-feat-young-zee-and-friends-reading-pa/
LOCATION:Reverb\, 1402 N 9th St\, Reading\, Pennsylvania\, United States
CATEGORIES:The Underground Grind Tour
ATTACH;FMTTYPE=image/jpeg:https://fullblastbooking.net/wp-content/uploads/2023/02/3.1-Flyer.jpg
END:VEVENT
BEGIN:VEVENT
DTSTART;TZID=UTC:20220422T120000
DTEND;TZID=UTC:20220423T233000
DTSTAMP:20260423T200212
CREATED:20220119T080314Z
LAST-MODIFIED:20220316T161320Z
UID:3755-1650628800-1650756600@fullblastbooking.net
SUMMARY:The Underground Grind Tour - Asheville\, NC
DESCRIPTION:Full Blast Booking presents The Underground Grind Tour featuring: \nA-Plus of Hieroglyphics/Souls of Mischief and El Da Sensei of The Artifacts \nLocation: Asheville Hemp Fest \n21+ Event Hosted by Dropp Science – Music by Dr. Hotron with Live Performances by: Sympl\, Robbie Blair\, Diggi\, Rob’beeStallings\, Harvest Blaque & more.  \nLineup & Location Info Dropping Soon … Follow @fullblastbooking on Instagram for updates. \nFor Ticket & Location info visit www.ashevillehempfest.com 
URL:https://fullblastbooking.net/event/the-underground-grind-tour-asheville-nc/
LOCATION:Asheville Hemp Fest\, Pack Square Park - 80 Court Plaza\, Asheville\, NC
CATEGORIES:The Underground Grind Tour
ATTACH;FMTTYPE=image/jpeg:https://fullblastbooking.net/wp-content/uploads/2022/01/Underground-Tour-4.22.jpg
END:VEVENT
BEGIN:VEVENT
DTSTART;TZID=UTC:20220421T200000
DTEND;TZID=UTC:20220421T233000
DTSTAMP:20260423T200212
CREATED:20220119T080022Z
LAST-MODIFIED:20220316T163050Z
UID:3753-1650571200-1650583800@fullblastbooking.net
SUMMARY:The Underground Grind Tour - Atlanta\, GA
DESCRIPTION:Full Blast Booking presents The Underground Grind Tour featuring: \nA-Plus of Hieroglyphics/Souls of Mischief and El Da Sensei of The Artifacts \nLocation: Speak Easy Lounge  \n21+ Event ˙Hosted by Mood Slingerz Multi Media Group with Live Performances by: Diggi\, Konflik\, Sympl\, Boss Regs \nLineup & Location Info Dropping Soon … Follow @fullblastbooking on Instagram for updates.
URL:https://fullblastbooking.net/event/the-underground-grind-tour-greenville-sc/
LOCATION:CT
CATEGORIES:The Underground Grind Tour
ATTACH;FMTTYPE=image/jpeg:https://fullblastbooking.net/wp-content/uploads/2022/01/Underground-4.21.jpg
END:VEVENT
BEGIN:VEVENT
DTSTART;TZID=UTC:20220420T210000
DTEND;TZID=UTC:20220420T233000
DTSTAMP:20260423T200212
CREATED:20220119T075836Z
LAST-MODIFIED:20220316T163534Z
UID:3750-1650488400-1650497400@fullblastbooking.net
SUMMARY:The Underground Grind Tour -Charlotte\, NC
DESCRIPTION:Full Blast Booking presents The Underground Grind Tour featuring: \nA-Plus of Hieroglyphics/Souls of Mischief and El Da Sensei of The Artifacts \nLocation: Snug Harbor \n21+ Event with Live Performances by: \nLineup & Location Info Dropping Soon … Follow @fullblastbooking on Instagram for updates.
URL:https://fullblastbooking.net/event/the-underground-grind-tour-charlotte-nc/
LOCATION:Snug Harbor\, 1228 Gordon St\, Charlotte\, NC\, 28205\, United States
CATEGORIES:The Underground Grind Tour
ATTACH;FMTTYPE=image/jpeg:https://fullblastbooking.net/wp-content/uploads/2022/01/underground-4.20.jpg
END:VEVENT
BEGIN:VEVENT
DTSTART;TZID=UTC:20220419T190000
DTEND;TZID=UTC:20220419T233000
DTSTAMP:20260423T200212
CREATED:20220119T075608Z
LAST-MODIFIED:20220316T164151Z
UID:3747-1650394800-1650411000@fullblastbooking.net
SUMMARY:The Underground Grind Tour - Roanoke\, VA
DESCRIPTION:Full Blast Booking presents The Underground Grind Tour featuring: \nA-Plus of Hieroglyphics/Souls of Mischief and El Da Sensei of The Artifacts \nLocation: Spot on Kirk \n21+ Event with Live Performances by: \nLineup & Location Info Dropping Soon … Follow @fullblastbooking on Instagram for updates.
URL:https://fullblastbooking.net/event/the-underground-grind-tour-roanoke-va/
LOCATION:Spot on Kirk\, 22 Kirk Ave\, Roanoke\, VA\, 24011
CATEGORIES:The Underground Grind Tour
ATTACH;FMTTYPE=image/jpeg:https://fullblastbooking.net/wp-content/uploads/2022/01/underground-4.19.jpg
END:VEVENT
BEGIN:VEVENT
DTSTART;TZID=UTC:20220416T190000
DTEND;TZID=UTC:20220416T233000
DTSTAMP:20260423T200212
CREATED:20220119T075320Z
LAST-MODIFIED:20220413T031104Z
UID:3745-1650135600-1650151800@fullblastbooking.net
SUMMARY:The Underground Grind Tour - Springfield\, MA
DESCRIPTION:Full Blast Booking presents The Underground Grind Tour featuring: \nA-Plus of Hieroglyphics/Souls of Mischief and El Da Sensei of The Artifacts \nLocation: ACE Studio \n21+ Event with Live Performances by: \nLineup & Location Info Dropping Soon … Follow @fullblastbooking on Instagram for updates.
URL:https://fullblastbooking.net/event/the-underground-grind-tour-springfield-ma/
LOCATION:Ace Studio\, 1365 Main t- Marketplace\, Springfield\, MA\, United States
CATEGORIES:The Underground Grind Tour
ATTACH;FMTTYPE=image/jpeg:https://fullblastbooking.net/wp-content/uploads/2022/04/Underground-4.16.22.jpg
END:VEVENT
BEGIN:VEVENT
DTSTART;TZID=UTC:20220415T170000
DTEND;TZID=UTC:20220415T233000
DTSTAMP:20260423T200212
CREATED:20220119T075139Z
LAST-MODIFIED:20220413T030726Z
UID:3743-1650042000-1650065400@fullblastbooking.net
SUMMARY:The Underground Grind Tour - Woodbridge\, CT
DESCRIPTION:Full Blast Booking presents The Underground Grind Tour featuring: \nA-Plus of Hieroglyphics/Souls of Mischief and El Da Sensei of The Artifacts \nLocation: 10Selden \n** A-Plus & Lingo Birthday Bash ** PLUS Grind Mode Cypher filiming Live on-site \n21+ Event with Live Performances by: Sympl\, Konflik\, Lingo +Ayok\, Diggi\, Paranormal Adam\, LS Camp\, James Joyce the Squatch\, Rob’bee Stallings\, Christyal Thoughts\, J-Rem\, Zona & more … \nLineup & Location Info Dropping Soon … Follow @fullblastbooking on Instagram for updates.
URL:https://fullblastbooking.net/event/the-underground-grind-tour-woodbridge-ct/
LOCATION:10Selden\, 10 Selden St\, Woodbrdge\, CT\, United States
CATEGORIES:The Underground Grind Tour
ATTACH;FMTTYPE=image/jpeg:https://fullblastbooking.net/wp-content/uploads/2022/01/Underground-4.15.22.jpg
END:VEVENT
BEGIN:VEVENT
DTSTART;TZID=UTC:20220414T200000
DTEND;TZID=UTC:20220414T233000
DTSTAMP:20260423T200212
CREATED:20220119T074940Z
LAST-MODIFIED:20220316T232512Z
UID:3740-1649966400-1649979000@fullblastbooking.net
SUMMARY:The Underground Grind Tour - Manchester\, NH
DESCRIPTION:Full Blast Booking presents The Underground Grind Tour featuring: \nA-Plus of Hieroglyphics/Souls of Mischief and El Da Sensei of The Artifacts \nLocation: The Shaskeen \n21+ Event with Live Performances by: \nLineup & Location Info Dropping Soon … Follow @fullblastbooking on Instagram for updates.
URL:https://fullblastbooking.net/event/the-underground-grind-tour-manchester-nh/
LOCATION:The Shaskeen\, 909 Elm St\, Manchester\, NH\, United States
CATEGORIES:The Underground Grind Tour
ATTACH;FMTTYPE=image/jpeg:https://fullblastbooking.net/wp-content/uploads/2022/01/underground-4.14.jpg
END:VEVENT
END:VCALENDAR