BEGIN:VCALENDAR
VERSION:2.0
PRODID:-//Full Blast Booking - ECPv6.15.1.1//NONSGML v1.0//EN
CALSCALE:GREGORIAN
METHOD:PUBLISH
X-WR-CALNAME:Full Blast Booking
X-ORIGINAL-URL:https://fullblastbooking.net
X-WR-CALDESC:Events for Full Blast Booking
REFRESH-INTERVAL;VALUE=DURATION:PT1H
X-Robots-Tag:noindex
X-PUBLISHED-TTL:PT1H
BEGIN:VTIMEZONE
TZID:America/New_York
BEGIN:DAYLIGHT
TZOFFSETFROM:-0500
TZOFFSETTO:-0400
TZNAME:EDT
DTSTART:20260308T070000
END:DAYLIGHT
BEGIN:STANDARD
TZOFFSETFROM:-0400
TZOFFSETTO:-0500
TZNAME:EST
DTSTART:20261101T060000
END:STANDARD
END:VTIMEZONE
BEGIN:VEVENT
DTSTART;TZID=America/New_York:20260605T200000
DTEND;TZID=America/New_York:20260605T233000
DTSTAMP:20260423T193315
CREATED:20260405T182954Z
LAST-MODIFIED:20260406T222426Z
UID:43385-1780689600-1780702200@fullblastbooking.net
SUMMARY:Rugged Wknd - RA The Rugged Man Live In Portland\, ME
DESCRIPTION:Rugged Wknd – RA The Rugged Man Live In Portland \n\n\n\nGet Tickets
URL:https://fullblastbooking.net/event/rugged-wknd-ra-the-rugged-man-live-in-portland-me/
LOCATION:Bayside Bowl\, 58 Alder St\, Portland\, Maine\, 04101\, United States
CATEGORIES:Tour For Life
ATTACH;FMTTYPE=image/png:https://fullblastbooking.net/wp-content/uploads/2026/04/t_26-04-05_08-37-16-172.png
END:VEVENT
END:VCALENDAR