BEGIN:VCALENDAR
VERSION:2.0
PRODID:-//Full Blast Booking - ECPv6.15.1.1//NONSGML v1.0//EN
CALSCALE:GREGORIAN
METHOD:PUBLISH
X-WR-CALNAME:Full Blast Booking
X-ORIGINAL-URL:https://fullblastbooking.net
X-WR-CALDESC:Events for Full Blast Booking
REFRESH-INTERVAL;VALUE=DURATION:PT1H
X-Robots-Tag:noindex
X-PUBLISHED-TTL:PT1H
BEGIN:VTIMEZONE
TZID:America/New_York
BEGIN:DAYLIGHT
TZOFFSETFROM:-0500
TZOFFSETTO:-0400
TZNAME:EDT
DTSTART:20230312T070000
END:DAYLIGHT
BEGIN:STANDARD
TZOFFSETFROM:-0400
TZOFFSETTO:-0500
TZNAME:EST
DTSTART:20231105T060000
END:STANDARD
END:VTIMEZONE
BEGIN:VTIMEZONE
TZID:UTC
BEGIN:STANDARD
TZOFFSETFROM:+0000
TZOFFSETTO:+0000
TZNAME:UTC
DTSTART:20220101T000000
END:STANDARD
END:VTIMEZONE
BEGIN:VEVENT
DTSTART;TZID=America/New_York:20230224T190000
DTEND;TZID=America/New_York:20230224T230000
DTSTAMP:20260423T235616
CREATED:20221205T140000Z
LAST-MODIFIED:20221204T212201Z
UID:5026-1677265200-1677279600@fullblastbooking.net
SUMMARY:Tour For Life '23 Fundraiser Series Feat Sheek Louch
DESCRIPTION:The Full Blast Movement is coming back to The State House for a one-night only Tour For Life ’23 Series event that you are not gonna want to miss. \n\n\n\nWe are honored to announce our Special Guest for the evening will be none other than Sheek Louch of The Lox. \n\n\n\nStay tuned for Performance Updates & Event Details! \n\n\n\n21+ To Enter \n\n\n\nDonations Accepted at Door –  >> CLICK HERE FOR TICKETS << \n\n\n\n**Inquiries to FullBlastMovement@fullblastmovement
URL:https://fullblastbooking.net/event/tour-for-life-23-fundraiser-series-feat-sheek-louch/
LOCATION:The State House\, 310 State Street\, New Haven\, Connecticut\, United States
CATEGORIES:Tour For Life,Winter Tours
ATTACH;FMTTYPE=image/jpeg:https://fullblastbooking.net/wp-content/uploads/2022/12/Picsart_22-12-04_15-51-52-913.jpg
END:VEVENT
BEGIN:VEVENT
DTSTART;TZID=America/New_York:20230203T180000
DTEND;TZID=America/New_York:20230203T230000
DTSTAMP:20260423T235616
CREATED:20230102T012331Z
LAST-MODIFIED:20230102T012337Z
UID:5046-1675447200-1675465200@fullblastbooking.net
SUMMARY:Tour For Life Fundraise Series - Woodbridge\, CT
DESCRIPTION:The Full Blast Fam is back at 10Selden for another Tour For Life ’23 Fundraiser Series killer lineup featuring: \n\n\n\nVicki F\, GoatSquad\, H.O.T. Michael The Son\, Shyear Music\, Quantum Elev8\, Shane Aura\, Cherry Coop\, Emjay\, Francheyez\, Moneybaby XO\, DJ Funksway & more … \n\n\n\nAll Ages Welcome
URL:https://fullblastbooking.net/event/tour-for-life-fundraise-series-woodbridge-ct/
LOCATION:10Selden\, 10 Selden St\, Woodbrdge\, CT\, United States
CATEGORIES:Tour For Life,Winter Tours
ATTACH;FMTTYPE=image/jpeg:https://fullblastbooking.net/wp-content/uploads/2023/01/IMG_9244.jpg
END:VEVENT
BEGIN:VEVENT
DTSTART;TZID=UTC:20221203T180000
DTEND;TZID=UTC:20221203T230000
DTSTAMP:20260423T235616
CREATED:20221123T045114Z
LAST-MODIFIED:20221123T045227Z
UID:4672-1670090400-1670108400@fullblastbooking.net
SUMMARY:Tour For Life Fundraiser Series | Woodbridge\, CT
DESCRIPTION:The crew is getting together once more for an exclusive one-night only Tour For Life fundraiser series event! \n\n\n\nPerformances By: \n\n\n\nGoat Squad\, Michael the Son\, Quantum Elev8 feat Luv Seby\, Cherry Coop\, Mickey Bourbon\, Shyear Music\, Oldie Ivory\, Emjay\, Audamatix\, Jerr\, Shane Aura\, Cosmic Error\, DJ Funksway & more … \n\n\n\nAll Ages Welcome >> 100% Proceeds to TFL23 \n\n\n\n**Inquiries to FullBlastMovement@gmail.com
URL:https://fullblastbooking.net/event/tour-for-life-fundraiser-series-woodbridge-ct/
LOCATION:10Selden\, 10 Selden St\, Woodbrdge\, CT\, United States
CATEGORIES:Tour For Life
ATTACH;FMTTYPE=image/jpeg:https://fullblastbooking.net/wp-content/uploads/2022/10/12.3.22-TFL-Fundraiser-CT.jpg
END:VEVENT
BEGIN:VEVENT
DTSTART;TZID=UTC:20220821T150000
DTEND;TZID=UTC:20220821T203000
DTSTAMP:20260423T235616
CREATED:20220503T130000Z
LAST-MODIFIED:20220719T020106Z
UID:4433-1661094000-1661113800@fullblastbooking.net
SUMMARY:Tour For Life 22 - Connecticut
DESCRIPTION:Tour For Life 2022 Grand Finale is coming home to Connecticut! Meet us at The Toad’s Place in New Haven…. \n\n\n\nDate: Sunday\, August 21st \n\n\n\nTime: Doors Open at 3pm \n\n\n\nHosted By: Full Blast Crew\, Blest Brando\, Sympl\, Chuck Nickels & DJ Funksway \n\n\n\nHeadliners: Ghostface Killah of Wu-Tang \n\n\n\nPerformances By: Duece Bug\, Mic King\, The LIE Show\, GrimeWav\, Smifhouse Records\, Mr. King & Heavy Set\, Aul Purpis\, Don Blake\, Paranormal Adam\, Konflik\, Ms. Laura Michelle\, Diogenes\, Dan Theory\,  James Joyce The Squatch\, Jay Pluss\, Mickey Bourbon\, Alex Anonny\, Vicki F\, Richard\, The Space Station & More! \n\n\n\n21+ Event. \n\n\n\n$29 Day of Show\, $34 Doors. 100% Proceeds to Mental Health Charities. \n\n\n\n>>> CLICK HERE FOR TICKET INFO<<<
URL:https://fullblastbooking.net/event/tour-for-life-22-connecticut/
LOCATION:Toad’s Place\, 300 York St\, New Haven\, Connecticut\, United States
CATEGORIES:Tour For Life
ATTACH;FMTTYPE=image/jpeg:https://fullblastbooking.net/wp-content/uploads/2022/05/278896291_1752031008338012_9065239574429739954_n.jpg
END:VEVENT
BEGIN:VEVENT
DTSTART;TZID=UTC:20220820T160000
DTEND;TZID=UTC:20220820T233000
DTSTAMP:20260423T235616
CREATED:20220503T130000Z
LAST-MODIFIED:20220719T020031Z
UID:4431-1661011200-1661038200@fullblastbooking.net
SUMMARY:Tour For Life 22 - New Hampshire
DESCRIPTION:We’re bringing the heat back to The Shaskeen in downtown Manchester\, NH! \n\n\n\nDate: Saturday\, August 20th \n\n\n\nTime: Doors Open at 3pm\, Show Starts at 4pm \n\n\n\nHosted By: Full Blast Crew\, Blest Brando\, Sympl\, Chuck Nickels & DJ Funksway \n\n\n\nHeadliners: Canibus & A-F-R-O (All Flows Reach Out)  \n\n\n\nPerformances By: Duece Bug\, Mic King\, The LIE Show\, Mr. King & Heavy Set\, Don Blake\, Paranormal Adam\, Konflik\, Diogenes\, Ms. Laura Michelle\, James Joyce The Squatch\, Jay Pluss\, Mickey Bourbon\, The Space Station & More! \n\n\n\n21+ Event. \n\n\n\n$22 Day of Show\, $27 Doors. 100% Proceeds to Mental Health Charities. \n\n\n\n>>> CLICK HERE FOR TICKET INFO <<<
URL:https://fullblastbooking.net/event/tour-for-life-22-new-hampshire/
LOCATION:The Shaskeen\, 909 Elm St\, Manchester\, NH\, United States
CATEGORIES:Tour For Life
ATTACH;FMTTYPE=image/jpeg:https://fullblastbooking.net/wp-content/uploads/2022/05/278896291_1752031008338012_9065239574429739954_n.jpg
END:VEVENT
BEGIN:VEVENT
DTSTART;TZID=UTC:20220819T180000
DTEND;TZID=UTC:20220820T000000
DTSTAMP:20260423T235616
CREATED:20220503T130000Z
LAST-MODIFIED:20220719T020145Z
UID:4429-1660932000-1660953600@fullblastbooking.net
SUMMARY:Tour For Life 22 - Massachusetts
DESCRIPTION:Tour For Life 2022 is movin’ through to Worcester\, MA …. it’s about to go down at Electric Haze!  \n\n\n\nDate: Friday\, August 19th \n\n\n\nTime: Doors Open at 5pm\, Show Starts at 6pm \n\n\n\nHosted By: Full Blast Crew\, Blest Brando\, Sympl\, Chuck Nickels & DJ Funksway \n\n\n\nHeadliners: Dizzy Wright with DJ Hoppa  \n\n\n\nPerformances By: Duece Bug\, The LIE Show\, Mic King\, Ocelot\, Don Blake\, Mr. King & Heavy Set\, Paranormal Adam\, Konflik\, Diogenes\, Ms. Laura Michelle\, Mickey Bourbon\, The Space Station & More! \n\n\n\n21+ Event. \n\n\n\n$20 Day of Show\, $25 Doors. 100% Proceeds to Mental Health Charities. \n\n\n\n>>> CLICK HERE FOR TICKET INFO >>>
URL:https://fullblastbooking.net/event/tour-for-life-22-massachusetts/
LOCATION:Electric Haze\, Worcester\, MA\, United States
CATEGORIES:Tour For Life
ATTACH;FMTTYPE=image/jpeg:https://fullblastbooking.net/wp-content/uploads/2022/05/278896291_1752031008338012_9065239574429739954_n.jpg
END:VEVENT
BEGIN:VEVENT
DTSTART;TZID=UTC:20220818T180000
DTEND;TZID=UTC:20220819T190000
DTSTAMP:20260423T235616
CREATED:20220503T130000Z
LAST-MODIFIED:20220719T020216Z
UID:4427-1660845600-1660935600@fullblastbooking.net
SUMMARY:Tour For Life 22 - New Jersey
DESCRIPTION:JERSEY… You’re Up! Next stop on Tour For Life 2022 is the one and only Dingbatz in Clifton\, NJ with some legendary Jersey natives!  \n\n\n\nDate: Thursday\, August 18th \n\n\n\nTime: Doors Open at 5pm\, Show Starts at 6pm \n\n\n\nHosted By: Full Blast Crew\, Blest Brando\, Sympl\, Chuck Nickels & DJ Funksway \n\n\n\nHeadliners: Rah Digga\, El Da Sensei & Ren Thomas  \n\n\n\nPerformances By: Duece Bug\, The LIE Show\, Mic King\, Don Blake\, Shi Lythal\, Mr. King & Heavy Set\, Paranormal Adam\, Konflik\, Diogenes\, Ms. Laura Michelle\, Mickey Bourbon & OTR ENT\, The Space Station & More! \n\n\n\n21+ Event. \n\n\n\n$15 Day of Show\, $20 Doors. 100% Donation Proceeds to Mental Health Charities. \n\n\n\n>>> CLICK HERE FOR TICKET INFO <<<
URL:https://fullblastbooking.net/event/tour-for-life-22-new-jersey/
LOCATION:DingBatz\, 620 Van Houten Ave\, Clifton\, NJ\, United States
CATEGORIES:Tour For Life
ATTACH;FMTTYPE=image/jpeg:https://fullblastbooking.net/wp-content/uploads/2022/05/278896291_1752031008338012_9065239574429739954_n.jpg
END:VEVENT
BEGIN:VEVENT
DTSTART;TZID=UTC:20220817T180000
DTEND;TZID=UTC:20220818T000100
DTSTAMP:20260423T235616
CREATED:20220503T130000Z
LAST-MODIFIED:20220811T014453Z
UID:4422-1660759200-1660780860@fullblastbooking.net
SUMMARY:Tour For Life 22 - New York
DESCRIPTION:Tour For Life 2022 is kicking off at Shaker’s Pub in Oakdale\, NY.  \n\n\n\nDate: Wednesday\, August 17th \n\n\n\nTime: Doors Open at 5pm\, Show Starts at 6pm \n\n\n\nHosted By: Full Blast Crew\, Blest Brando\, Sympl\, Chuck Nickels & DJ Funksway \n\n\n\nHeadliners: PaceWon & Young Zee of The Outsidaz \n\n\n\nPerformances By: Duece Bug\, Mic King\, B. Dvine\, The LIE Show\, Paranormal Adam\, Konflik\, Mr. King & Heavy Set\, Ms. Laura Michelle\, Don Blake\, Diogenes\, The Space Station\, Mickey Bourbon\, Sargon\, Jay Pluss\, Snottaynose & More! \n\n\n\n21+ Event. Donations welcome & encouraged. 100% Donation Proceeds to Mental Health Charities. \n\n\n\n**Please note that there are no entry tickets for this event – $15 Door Donation is appreciated. Visit our GoFundMePage (proof required) or donate at the door.  \n\n\n\n>>> CLICK HERE TO LEARN MORE <<<
URL:https://fullblastbooking.net/event/tour-for-life-22-new-york/
LOCATION:Shaker’s Pub\, 4608 Sunrise Highway South Service Road\, Oakdale\, New York\, United States
CATEGORIES:Tour For Life
ATTACH;FMTTYPE=image/jpeg:https://fullblastbooking.net/wp-content/uploads/2022/05/278896291_1752031008338012_9065239574429739954_n.jpg
END:VEVENT
BEGIN:VEVENT
DTSTART;TZID=UTC:20220115T190000
DTEND;TZID=UTC:20220115T233000
DTSTAMP:20260423T235616
CREATED:20211217T062934Z
LAST-MODIFIED:20211217T062934Z
UID:804-1642273200-1642289400@fullblastbooking.net
SUMMARY:Black Market Soup Kitchen Presents a Tour For Life Fundraiser
DESCRIPTION:The Full Blast Movement continues as Black Market Soup Kitchen hosts a very special Tour For Life One-Night Only Fundraiser at Season’s! \n  \n21+ Event with Live Performances by: \nKonflik * Ill By Instinct * Felicia Cruz * Black Market Soup Kitchen * Asylum Flo * Psyko//Delic * B Dvine & Treelock & P@pa
URL:https://fullblastbooking.net/event/black-market-soup-kitchen-presents-a-tour-for-life-fundraiser/
LOCATION:Season’s\, 427 Main St\, Bangor\, ME\, United States
CATEGORIES:Tour For Life
ATTACH;FMTTYPE=image/jpeg:https://fullblastbooking.net/wp-content/uploads/2021/12/IMG_2653.jpg
END:VEVENT
END:VCALENDAR